BEGIN:VCALENDAR
VERSION:2.0
PRODID:-//Combe Martin Parish Council//Meeting Calendar//EN
CALSCALE:GREGORIAN
METHOD:PUBLISH
BEGIN:VEVENT
UID:70650-20221122@combemartin-pc.gov.uk
DTSTAMP:20260423T142021Z
DTSTART;VALUE=DATE:20221122
DTEND;VALUE=DATE:20221123
SUMMARY:Personnel Committee Meeting &#8211\\; 5th December 2022
DESCRIPTION:Personnel Committee Meeting\nView details: https://combemartin-pc.gov.uk/meetings/personnel-committee-meeting-5th-december-2022/
URL:https://combemartin-pc.gov.uk/meetings/personnel-committee-meeting-5th-december-2022/
END:VEVENT
END:VCALENDAR
