BEGIN:VCALENDAR
VERSION:2.0
PRODID:-//Combe Martin Parish Council//Meeting Calendar//EN
CALSCALE:GREGORIAN
METHOD:PUBLISH
BEGIN:VEVENT
UID:70654-20221201@combemartin-pc.gov.uk
DTSTAMP:20260423T141638Z
DTSTART;VALUE=DATE:20221201
DTEND;VALUE=DATE:20221202
SUMMARY:Personnel Committee Meeting &#8211\\; 12th December 2022
DESCRIPTION:Personnel Committee Meeting\nView details: https://combemartin-pc.gov.uk/meetings/personnel-committee-meeting-12th-december-2022/
URL:https://combemartin-pc.gov.uk/meetings/personnel-committee-meeting-12th-december-2022/
END:VEVENT
END:VCALENDAR
