BEGIN:VCALENDAR
VERSION:2.0
PRODID:-//Combe Martin Parish Council//Meeting Calendar//EN
CALSCALE:GREGORIAN
METHOD:PUBLISH
BEGIN:VEVENT
UID:70682-20220328@combemartin-pc.gov.uk
DTSTAMP:20260423T143049Z
DTSTART;VALUE=DATE:20220328
DTEND;VALUE=DATE:20220329
SUMMARY:Personnel Committee Meeting &#8211\\; 28th March 2022
DESCRIPTION:Personnel Committee Meeting\nView details: https://combemartin-pc.gov.uk/meetings/personnel-committee-meeting-28th-march-2022/
URL:https://combemartin-pc.gov.uk/meetings/personnel-committee-meeting-28th-march-2022/
END:VEVENT
END:VCALENDAR
