BEGIN:VCALENDAR
VERSION:2.0
PRODID:-//Combe Martin Parish Council//Meeting Calendar//EN
CALSCALE:GREGORIAN
METHOD:PUBLISH
BEGIN:VEVENT
UID:70684-20220530@combemartin-pc.gov.uk
DTSTAMP:20260423T131204Z
DTSTART;VALUE=DATE:20220530
DTEND;VALUE=DATE:20220531
SUMMARY:CC Committee Meeting &#8211\\; 30th May 2022
DESCRIPTION:Community Centre Committee Meeting\nView details: https://combemartin-pc.gov.uk/meetings/cc-committee-meeting-30th-may-2022/
URL:https://combemartin-pc.gov.uk/meetings/cc-committee-meeting-30th-may-2022/
END:VEVENT
END:VCALENDAR
