BEGIN:VCALENDAR
VERSION:2.0
PRODID:-//Combe Martin Parish Council//Meeting Calendar//EN
CALSCALE:GREGORIAN
METHOD:PUBLISH
BEGIN:VEVENT
UID:70685-20230109@combemartin-pc.gov.uk
DTSTAMP:20260423T130919Z
DTSTART;VALUE=DATE:20230109
DTEND;VALUE=DATE:20230110
SUMMARY:Council Meetings &#8211\\; 2023
DESCRIPTION:Full Council Meeting\nView details: https://combemartin-pc.gov.uk/meetings/council-meetings-2023/
URL:https://combemartin-pc.gov.uk/meetings/council-meetings-2023/
END:VEVENT
END:VCALENDAR
