BEGIN:VCALENDAR
VERSION:2.0
PRODID:-//Combe Martin Parish Council//Meeting Calendar//EN
CALSCALE:GREGORIAN
METHOD:PUBLISH
BEGIN:VEVENT
UID:70705-20230627@combemartin-pc.gov.uk
DTSTAMP:20260423T122839Z
DTSTART;VALUE=DATE:20230627
DTEND;VALUE=DATE:20230628
SUMMARY:Personnel Committee Meeting &#8211\\; 3rd July 2023
DESCRIPTION:Personnel Committee Meeting\nView details: https://combemartin-pc.gov.uk/meetings/personnel-committee-meeting-3rd-july-2023/
URL:https://combemartin-pc.gov.uk/meetings/personnel-committee-meeting-3rd-july-2023/
END:VEVENT
END:VCALENDAR
