BEGIN:VCALENDAR
VERSION:2.0
PRODID:-//Combe Martin Parish Council//Meeting Calendar//EN
CALSCALE:GREGORIAN
METHOD:PUBLISH
BEGIN:VEVENT
UID:70715-20230130@combemartin-pc.gov.uk
DTSTAMP:20260423T141613Z
DTSTART;VALUE=DATE:20230130
DTEND;VALUE=DATE:20230131
SUMMARY:Personnel Committee Meeting &#8211\\; 6th February 2023
DESCRIPTION:Personnel Committee Meeting\nView details: https://combemartin-pc.gov.uk/meetings/personnel-committee-meeting-6th-february-2023/
URL:https://combemartin-pc.gov.uk/meetings/personnel-committee-meeting-6th-february-2023/
END:VEVENT
END:VCALENDAR
