BEGIN:VCALENDAR
VERSION:2.0
PRODID:-//Combe Martin Parish Council//Meeting Calendar//EN
CALSCALE:GREGORIAN
METHOD:PUBLISH
BEGIN:VEVENT
UID:70718-20231023@combemartin-pc.gov.uk
DTSTAMP:20260423T123109Z
DTSTART;VALUE=DATE:20231023
DTEND;VALUE=DATE:20231024
SUMMARY:Personnel Committee Meeting &#8211\\; 23rd October 2023
DESCRIPTION:Personnel Committee Meeting\nView details: https://combemartin-pc.gov.uk/meetings/personnel-committee-meeting-23rd-october-2023/
URL:https://combemartin-pc.gov.uk/meetings/personnel-committee-meeting-23rd-october-2023/
END:VEVENT
END:VCALENDAR
