BEGIN:VCALENDAR
VERSION:2.0
PRODID:-//Combe Martin Parish Council//Meeting Calendar//EN
CALSCALE:GREGORIAN
METHOD:PUBLISH
BEGIN:VEVENT
UID:70722-20230322@combemartin-pc.gov.uk
DTSTAMP:20260423T143950Z
DTSTART;VALUE=DATE:20230322
DTEND;VALUE=DATE:20230323
SUMMARY:Personnel Committee Meeting &#8211\\; 27th March 2023
DESCRIPTION:Personnel Committee Meeting\nView details: https://combemartin-pc.gov.uk/meetings/personnel-committee-meeting-27th-march-2023/
URL:https://combemartin-pc.gov.uk/meetings/personnel-committee-meeting-27th-march-2023/
END:VEVENT
END:VCALENDAR
