BEGIN:VCALENDAR
VERSION:2.0
PRODID:-//Combe Martin Parish Council//Meeting Calendar//EN
CALSCALE:GREGORIAN
METHOD:PUBLISH
BEGIN:VEVENT
UID:70739-20240108@combemartin-pc.gov.uk
DTSTAMP:20260423T143815Z
DTSTART;VALUE=DATE:20240108
DTEND;VALUE=DATE:20240109
SUMMARY:Council Meeting &#8211\\; 15th January 2024
DESCRIPTION:Full Council Meeting\nView details: https://combemartin-pc.gov.uk/meetings/council-meeting-15th-january-2024/
URL:https://combemartin-pc.gov.uk/meetings/council-meeting-15th-january-2024/
END:VEVENT
END:VCALENDAR
