BEGIN:VCALENDAR
VERSION:2.0
PRODID:-//Combe Martin Parish Council//Meeting Calendar//EN
CALSCALE:GREGORIAN
METHOD:PUBLISH
BEGIN:VEVENT
UID:70770-20240513@combemartin-pc.gov.uk
DTSTAMP:20260422T095447Z
DTSTART;VALUE=DATE:20240513
DTEND;VALUE=DATE:20240514
SUMMARY:Annual Parish Meeting &#8211\\; 13th May 2024
DESCRIPTION:Annual Parish Meetings Meeting\nView details: https://combemartin-pc.gov.uk/meetings/annual-parish-meeting-13th-may-2024/
URL:https://combemartin-pc.gov.uk/meetings/annual-parish-meeting-13th-may-2024/
END:VEVENT
END:VCALENDAR
