BEGIN:VCALENDAR
VERSION:2.0
PRODID:-//Combe Martin Parish Council//Meeting Calendar//EN
CALSCALE:GREGORIAN
METHOD:PUBLISH
BEGIN:VEVENT
UID:71034-20240909@combemartin-pc.gov.uk
DTSTAMP:20260423T172623Z
DTSTART;VALUE=DATE:20240909
DTEND;VALUE=DATE:20240910
SUMMARY:Council Meeting &#8211\\; 9 September 2024
DESCRIPTION:Full Council Meeting\nView details: https://combemartin-pc.gov.uk/meetings/combe-martin-parish-council/
URL:https://combemartin-pc.gov.uk/meetings/combe-martin-parish-council/
END:VEVENT
END:VCALENDAR
