BEGIN:VCALENDAR
VERSION:2.0
PRODID:-//Combe Martin Parish Council//Meeting Calendar//EN
CALSCALE:GREGORIAN
METHOD:PUBLISH
BEGIN:VEVENT
UID:71081-20241014@combemartin-pc.gov.uk
DTSTAMP:20260423T155910Z
DTSTART;VALUE=DATE:20241014
DTEND;VALUE=DATE:20241015
SUMMARY:Council Meeting &#8211\\; 14 October 2024
DESCRIPTION:Full Council Meeting\nView details: https://combemartin-pc.gov.uk/meetings/council-meeting-14-october-2024/
URL:https://combemartin-pc.gov.uk/meetings/council-meeting-14-october-2024/
END:VEVENT
END:VCALENDAR
