BEGIN:VCALENDAR
VERSION:2.0
PRODID:-//Combe Martin Parish Council//Meeting Calendar//EN
CALSCALE:GREGORIAN
METHOD:PUBLISH
BEGIN:VEVENT
UID:71407-20250414@combemartin-pc.gov.uk
DTSTAMP:20260423T123110Z
DTSTART;VALUE=DATE:20250414
DTEND;VALUE=DATE:20250415
SUMMARY:Council meeting on 14th April 2025
DESCRIPTION:Full Council Meeting\nView details: https://combemartin-pc.gov.uk/meetings/council-meeting-on-14th-april/
URL:https://combemartin-pc.gov.uk/meetings/council-meeting-on-14th-april/
END:VEVENT
END:VCALENDAR
