BEGIN:VCALENDAR
VERSION:2.0
PRODID:-//Combe Martin Parish Council//Meeting Calendar//EN
CALSCALE:GREGORIAN
METHOD:PUBLISH
BEGIN:VEVENT
UID:71447-20250512@combemartin-pc.gov.uk
DTSTAMP:20260421T082930Z
DTSTART;VALUE=DATE:20250512
DTEND;VALUE=DATE:20250513
SUMMARY:Annual Parish Meeting on 12th May 2025
DESCRIPTION:Annual Parish Meetings Meeting\nView details: https://combemartin-pc.gov.uk/meetings/annual-parish-meeting/
URL:https://combemartin-pc.gov.uk/meetings/annual-parish-meeting/
END:VEVENT
END:VCALENDAR
