BEGIN:VCALENDAR
VERSION:2.0
PRODID:-//Combe Martin Parish Council//Meeting Calendar//EN
CALSCALE:GREGORIAN
METHOD:PUBLISH
BEGIN:VEVENT
UID:71466-20250609@combemartin-pc.gov.uk
DTSTAMP:20260423T130251Z
DTSTART;VALUE=DATE:20250609
DTEND;VALUE=DATE:20250610
SUMMARY:Council meeting 9th June 2025
DESCRIPTION:Full Council Meeting\nView details: https://combemartin-pc.gov.uk/meetings/council-meeting-9th-june-2025/
URL:https://combemartin-pc.gov.uk/meetings/council-meeting-9th-june-2025/
END:VEVENT
END:VCALENDAR
