BEGIN:VCALENDAR
VERSION:2.0
PRODID:-//Combe Martin Parish Council//Meeting Calendar//EN
CALSCALE:GREGORIAN
METHOD:PUBLISH
BEGIN:VEVENT
UID:71504-20250714@combemartin-pc.gov.uk
DTSTAMP:20260423T113443Z
DTSTART;VALUE=DATE:20250714
DTEND;VALUE=DATE:20250715
SUMMARY:Council meeting 14th July 2025
DESCRIPTION:Full Council Meeting\nView details: https://combemartin-pc.gov.uk/meetings/council-meeting-14th-july-2025/
URL:https://combemartin-pc.gov.uk/meetings/council-meeting-14th-july-2025/
END:VEVENT
END:VCALENDAR
