BEGIN:VCALENDAR
VERSION:2.0
PRODID:-//Combe Martin Parish Council//Meeting Calendar//EN
CALSCALE:GREGORIAN
METHOD:PUBLISH
BEGIN:VEVENT
UID:71560-20250908@combemartin-pc.gov.uk
DTSTAMP:20260423T112457Z
DTSTART;VALUE=DATE:20250908
DTEND;VALUE=DATE:20250909
SUMMARY:Agenda Personnel meeting 8th September 2025
DESCRIPTION:Personnel Committee Meeting\nView details: https://combemartin-pc.gov.uk/meetings/agenda-personnel-meeting-8th-september-2025/
URL:https://combemartin-pc.gov.uk/meetings/agenda-personnel-meeting-8th-september-2025/
END:VEVENT
END:VCALENDAR
