BEGIN:VCALENDAR
VERSION:2.0
PRODID:-//Combe Martin Parish Council//Meeting Calendar//EN
CALSCALE:GREGORIAN
METHOD:PUBLISH
BEGIN:VEVENT
UID:71592-20251027@combemartin-pc.gov.uk
DTSTAMP:20260421T083026Z
DTSTART;VALUE=DATE:20251027
DTEND;VALUE=DATE:20251028
SUMMARY:Council meeting 27 October 2025
DESCRIPTION:Full Council Meeting\nView details: https://combemartin-pc.gov.uk/meetings/council-meeting-27-october-2025/
URL:https://combemartin-pc.gov.uk/meetings/council-meeting-27-october-2025/
END:VEVENT
END:VCALENDAR
