BEGIN:VCALENDAR
VERSION:2.0
PRODID:-//Combe Martin Parish Council//Meeting Calendar//EN
CALSCALE:GREGORIAN
METHOD:PUBLISH
BEGIN:VEVENT
UID:71604-20251110@combemartin-pc.gov.uk
DTSTAMP:20260421T083012Z
DTSTART;VALUE=DATE:20251110
DTEND;VALUE=DATE:20251111
SUMMARY:Council meeting 10 November 2025
DESCRIPTION:Full Council Meeting\nView details: https://combemartin-pc.gov.uk/meetings/council-meeting-10-november-2025/
URL:https://combemartin-pc.gov.uk/meetings/council-meeting-10-november-2025/
END:VEVENT
END:VCALENDAR
